BEGIN:VCALENDAR
VERSION:2.0
PRODID:-//Peter Overduin - ECPv6.15.20//NONSGML v1.0//EN
CALSCALE:GREGORIAN
METHOD:PUBLISH
X-WR-CALNAME:Peter Overduin
X-ORIGINAL-URL:https://www.peter-overduin.nl
X-WR-CALDESC:Evenementen voor Peter Overduin
REFRESH-INTERVAL;VALUE=DURATION:PT1H
X-Robots-Tag:noindex
X-PUBLISHED-TTL:PT1H
BEGIN:VTIMEZONE
TZID:Europe/Amsterdam
BEGIN:DAYLIGHT
TZOFFSETFROM:+0100
TZOFFSETTO:+0200
TZNAME:CEST
DTSTART:20110327T010000
END:DAYLIGHT
BEGIN:STANDARD
TZOFFSETFROM:+0200
TZOFFSETTO:+0100
TZNAME:CET
DTSTART:20111030T010000
END:STANDARD
BEGIN:DAYLIGHT
TZOFFSETFROM:+0100
TZOFFSETTO:+0200
TZNAME:CEST
DTSTART:20120325T010000
END:DAYLIGHT
BEGIN:STANDARD
TZOFFSETFROM:+0200
TZOFFSETTO:+0100
TZNAME:CET
DTSTART:20121028T010000
END:STANDARD
BEGIN:DAYLIGHT
TZOFFSETFROM:+0100
TZOFFSETTO:+0200
TZNAME:CEST
DTSTART:20130331T010000
END:DAYLIGHT
BEGIN:STANDARD
TZOFFSETFROM:+0200
TZOFFSETTO:+0100
TZNAME:CET
DTSTART:20131027T010000
END:STANDARD
BEGIN:DAYLIGHT
TZOFFSETFROM:+0100
TZOFFSETTO:+0200
TZNAME:CEST
DTSTART:20140330T010000
END:DAYLIGHT
BEGIN:STANDARD
TZOFFSETFROM:+0200
TZOFFSETTO:+0100
TZNAME:CET
DTSTART:20141026T010000
END:STANDARD
BEGIN:DAYLIGHT
TZOFFSETFROM:+0100
TZOFFSETTO:+0200
TZNAME:CEST
DTSTART:20150329T010000
END:DAYLIGHT
BEGIN:STANDARD
TZOFFSETFROM:+0200
TZOFFSETTO:+0100
TZNAME:CET
DTSTART:20151025T010000
END:STANDARD
BEGIN:DAYLIGHT
TZOFFSETFROM:+0100
TZOFFSETTO:+0200
TZNAME:CEST
DTSTART:20160327T010000
END:DAYLIGHT
BEGIN:STANDARD
TZOFFSETFROM:+0200
TZOFFSETTO:+0100
TZNAME:CET
DTSTART:20161030T010000
END:STANDARD
BEGIN:DAYLIGHT
TZOFFSETFROM:+0100
TZOFFSETTO:+0200
TZNAME:CEST
DTSTART:20170326T010000
END:DAYLIGHT
BEGIN:STANDARD
TZOFFSETFROM:+0200
TZOFFSETTO:+0100
TZNAME:CET
DTSTART:20171029T010000
END:STANDARD
BEGIN:DAYLIGHT
TZOFFSETFROM:+0100
TZOFFSETTO:+0200
TZNAME:CEST
DTSTART:20180325T010000
END:DAYLIGHT
BEGIN:STANDARD
TZOFFSETFROM:+0200
TZOFFSETTO:+0100
TZNAME:CET
DTSTART:20181028T010000
END:STANDARD
BEGIN:DAYLIGHT
TZOFFSETFROM:+0100
TZOFFSETTO:+0200
TZNAME:CEST
DTSTART:20190331T010000
END:DAYLIGHT
BEGIN:STANDARD
TZOFFSETFROM:+0200
TZOFFSETTO:+0100
TZNAME:CET
DTSTART:20191027T010000
END:STANDARD
BEGIN:DAYLIGHT
TZOFFSETFROM:+0100
TZOFFSETTO:+0200
TZNAME:CEST
DTSTART:20200329T010000
END:DAYLIGHT
BEGIN:STANDARD
TZOFFSETFROM:+0200
TZOFFSETTO:+0100
TZNAME:CET
DTSTART:20201025T010000
END:STANDARD
BEGIN:DAYLIGHT
TZOFFSETFROM:+0100
TZOFFSETTO:+0200
TZNAME:CEST
DTSTART:20210328T010000
END:DAYLIGHT
BEGIN:STANDARD
TZOFFSETFROM:+0200
TZOFFSETTO:+0100
TZNAME:CET
DTSTART:20211031T010000
END:STANDARD
BEGIN:DAYLIGHT
TZOFFSETFROM:+0100
TZOFFSETTO:+0200
TZNAME:CEST
DTSTART:20220327T010000
END:DAYLIGHT
BEGIN:STANDARD
TZOFFSETFROM:+0200
TZOFFSETTO:+0100
TZNAME:CET
DTSTART:20221030T010000
END:STANDARD
BEGIN:DAYLIGHT
TZOFFSETFROM:+0100
TZOFFSETTO:+0200
TZNAME:CEST
DTSTART:20230326T010000
END:DAYLIGHT
BEGIN:STANDARD
TZOFFSETFROM:+0200
TZOFFSETTO:+0100
TZNAME:CET
DTSTART:20231029T010000
END:STANDARD
BEGIN:DAYLIGHT
TZOFFSETFROM:+0100
TZOFFSETTO:+0200
TZNAME:CEST
DTSTART:20240331T010000
END:DAYLIGHT
BEGIN:STANDARD
TZOFFSETFROM:+0200
TZOFFSETTO:+0100
TZNAME:CET
DTSTART:20241027T010000
END:STANDARD
BEGIN:DAYLIGHT
TZOFFSETFROM:+0100
TZOFFSETTO:+0200
TZNAME:CEST
DTSTART:20250330T010000
END:DAYLIGHT
BEGIN:STANDARD
TZOFFSETFROM:+0200
TZOFFSETTO:+0100
TZNAME:CET
DTSTART:20251026T010000
END:STANDARD
END:VTIMEZONE
BEGIN:VEVENT
DTSTART;TZID=Europe/Amsterdam:20240420T213000
DTEND;TZID=Europe/Amsterdam:20240420T233000
DTSTAMP:20260421T181012
CREATED:20240104T104858Z
LAST-MODIFIED:20240820T223616Z
UID:1737-1713648600-1713655800@www.peter-overduin.nl
SUMMARY:Inspire2liveChoir zingt in Heusden
DESCRIPTION:Op zaterdag 20 april zingt het Inspire2liveChoir o.l.v. Peter Overduin in de Catharijnekerk van Heusden.\nMet medewerking van:\n-Mannenkoor Onderling Genoegen en Brandweer Mannenkoor o.l.v. Johan den Hoedt\n-Jan Peter Teeuw\, orgel\n-Hans Veldhuizen vleugel \nToegangsprijs: € 12\,50.- p.p. t/m 12 jaar gratis\nKaartverkoop:    https://eventix.shop/xq8ex3e2  \nen ’s avonds aan de kerk.\nInlichtingen: 06-40329257
URL:https://www.peter-overduin.nl/evenement/inspire2livechoir-zingt-in-heusden/
LOCATION:Grote of Catharijnekerk\, Burchtstraat 2\, Heusden
CATEGORIES:Concerten Ispire2liveMusic
END:VEVENT
BEGIN:VEVENT
DTSTART;TZID=Europe/Amsterdam:20240324T180000
DTEND;TZID=Europe/Amsterdam:20240324T190000
DTSTAMP:20260421T181012
CREATED:20240104T101146Z
LAST-MODIFIED:20240820T223616Z
UID:1732-1711303200-1711306800@www.peter-overduin.nl
SUMMARY:Inspire2liveChoir zingt in Breepleinkek-Rotterdam
DESCRIPTION:Op zondag 24 maart zingt het Inspire2liveChoir o.l.v. Peter Overduin in de Breepleinkerk te Rotterdam.\nmet medewerking van:\n-Annelies Schep\, sopraan\n-Martin Mans\, orgel\n-Jantine Kalkman\, trompet \nToegang gratis.
URL:https://www.peter-overduin.nl/evenement/inspire2livechoir-zingt-in-breepleinkek-rotterdam/
LOCATION:Breepleinkerk\, van Malsenstraat 104\, Rotterdam\, 3074PZ
CATEGORIES:Concerten Ispire2liveMusic
END:VEVENT
BEGIN:VEVENT
DTSTART;TZID=Europe/Amsterdam:20240316T203000
DTEND;TZID=Europe/Amsterdam:20240316T223000
DTSTAMP:20260421T181012
CREATED:20240104T100918Z
LAST-MODIFIED:20240820T223616Z
UID:1730-1710621000-1710628200@www.peter-overduin.nl
SUMMARY:Inspire2liveChoir zingt in Ridderkerk
DESCRIPTION:Op zaterdag 16 maart zingt het Inspire2liveChoir o.l.v. Peter Overduin in de Levensbron te Ridderkerk.\nmet medewerking van:\n-Slikkerveers Chr. mannenkoor en Zederiks Chr. Mannenkoor o.l.v. Willem Nijhof\n-Johan den Hoedt\, orgel\n-Peter Jan Teeuw\, vleugel\n-Jaap Klootwijk\, slagwerk\n-Tania Ravelli\, sopraan \nToegangsprijs: € 12\,50.- p.p. t/m 12 jaar gratis\nKaartverkoop:    https://eventix.shop/xq8ex3e2  \nen ’s avonds aan de kerk.\nInlichtingen: 06-40329257
URL:https://www.peter-overduin.nl/evenement/inspire2livechoir-zingt-in-ridderkerk-3/
LOCATION:Ridderkerk\, Levensbron\, Jan Luykenstraat 10\, Ridderkerk\, 2985 AM
CATEGORIES:Concerten Ispire2liveMusic
END:VEVENT
BEGIN:VEVENT
DTSTART;TZID=Europe/Amsterdam:20120929T160000
DTEND;TZID=Europe/Amsterdam:20120929T180000
DTSTAMP:20260421T181012
CREATED:20120928T071432Z
LAST-MODIFIED:20121001T123814Z
UID:88-1348934400-1348941600@www.peter-overduin.nl
SUMMARY:Benefietconcert Borstkanker
DESCRIPTION:Benefietconcert voor borstkankeronderzoek door het Inspire2liveChoir o.l.v. Peter Overduin \nProgramma: \nAan dit grote Benefietconcert werken verder mee: \n\nApeldoorns Christelijk Mannenkoor o.l.v. Jacob Schenk\,\nHet Grote Kerk Koor o.l.v. Johan Bredewout\,\nMarco den Toom\, orgel\nAnnelies Schep\, sopraan\nJacob Schenk\, tenor\nArjan en Edith post\, trompet\n\nToegangsprijs € 10.-p.p. t/m 12 jaar € 5.-p.p. \nToegangskaarten vanaf 1 september bij de koorleden en het VVV Apeldoorn. \nInl.: 078-6818260
URL:https://www.peter-overduin.nl/evenement/benefietconcert-borstkanker/
CATEGORIES:Concerten Ispire2liveMusic
ATTACH;FMTTYPE=image/jpeg:https://www.peter-overduin.nl/wp-content/uploads/2012/09/603775_362593517155805_1791968195_n-e1349102264264.jpeg
ORGANIZER;CN="Peter Overduin":MAILTO:info@peter-overduin.nl
END:VEVENT
END:VCALENDAR