BEGIN:VCALENDAR
VERSION:2.0
PRODID:-//Peter Overduin - ECPv6.15.20//NONSGML v1.0//EN
CALSCALE:GREGORIAN
METHOD:PUBLISH
X-ORIGINAL-URL:https://www.peter-overduin.nl
X-WR-CALDESC:Evenementen voor Peter Overduin
REFRESH-INTERVAL;VALUE=DURATION:PT1H
X-Robots-Tag:noindex
X-PUBLISHED-TTL:PT1H
BEGIN:VTIMEZONE
TZID:Europe/Amsterdam
BEGIN:DAYLIGHT
TZOFFSETFROM:+0100
TZOFFSETTO:+0200
TZNAME:CEST
DTSTART:20110327T010000
END:DAYLIGHT
BEGIN:STANDARD
TZOFFSETFROM:+0200
TZOFFSETTO:+0100
TZNAME:CET
DTSTART:20111030T010000
END:STANDARD
BEGIN:DAYLIGHT
TZOFFSETFROM:+0100
TZOFFSETTO:+0200
TZNAME:CEST
DTSTART:20120325T010000
END:DAYLIGHT
BEGIN:STANDARD
TZOFFSETFROM:+0200
TZOFFSETTO:+0100
TZNAME:CET
DTSTART:20121028T010000
END:STANDARD
BEGIN:DAYLIGHT
TZOFFSETFROM:+0100
TZOFFSETTO:+0200
TZNAME:CEST
DTSTART:20130331T010000
END:DAYLIGHT
BEGIN:STANDARD
TZOFFSETFROM:+0200
TZOFFSETTO:+0100
TZNAME:CET
DTSTART:20131027T010000
END:STANDARD
BEGIN:DAYLIGHT
TZOFFSETFROM:+0100
TZOFFSETTO:+0200
TZNAME:CEST
DTSTART:20140330T010000
END:DAYLIGHT
BEGIN:STANDARD
TZOFFSETFROM:+0200
TZOFFSETTO:+0100
TZNAME:CET
DTSTART:20141026T010000
END:STANDARD
BEGIN:DAYLIGHT
TZOFFSETFROM:+0100
TZOFFSETTO:+0200
TZNAME:CEST
DTSTART:20150329T010000
END:DAYLIGHT
BEGIN:STANDARD
TZOFFSETFROM:+0200
TZOFFSETTO:+0100
TZNAME:CET
DTSTART:20151025T010000
END:STANDARD
BEGIN:DAYLIGHT
TZOFFSETFROM:+0100
TZOFFSETTO:+0200
TZNAME:CEST
DTSTART:20160327T010000
END:DAYLIGHT
BEGIN:STANDARD
TZOFFSETFROM:+0200
TZOFFSETTO:+0100
TZNAME:CET
DTSTART:20161030T010000
END:STANDARD
BEGIN:DAYLIGHT
TZOFFSETFROM:+0100
TZOFFSETTO:+0200
TZNAME:CEST
DTSTART:20170326T010000
END:DAYLIGHT
BEGIN:STANDARD
TZOFFSETFROM:+0200
TZOFFSETTO:+0100
TZNAME:CET
DTSTART:20171029T010000
END:STANDARD
BEGIN:DAYLIGHT
TZOFFSETFROM:+0100
TZOFFSETTO:+0200
TZNAME:CEST
DTSTART:20180325T010000
END:DAYLIGHT
BEGIN:STANDARD
TZOFFSETFROM:+0200
TZOFFSETTO:+0100
TZNAME:CET
DTSTART:20181028T010000
END:STANDARD
BEGIN:DAYLIGHT
TZOFFSETFROM:+0100
TZOFFSETTO:+0200
TZNAME:CEST
DTSTART:20190331T010000
END:DAYLIGHT
BEGIN:STANDARD
TZOFFSETFROM:+0200
TZOFFSETTO:+0100
TZNAME:CET
DTSTART:20191027T010000
END:STANDARD
BEGIN:DAYLIGHT
TZOFFSETFROM:+0100
TZOFFSETTO:+0200
TZNAME:CEST
DTSTART:20200329T010000
END:DAYLIGHT
BEGIN:STANDARD
TZOFFSETFROM:+0200
TZOFFSETTO:+0100
TZNAME:CET
DTSTART:20201025T010000
END:STANDARD
BEGIN:DAYLIGHT
TZOFFSETFROM:+0100
TZOFFSETTO:+0200
TZNAME:CEST
DTSTART:20210328T010000
END:DAYLIGHT
BEGIN:STANDARD
TZOFFSETFROM:+0200
TZOFFSETTO:+0100
TZNAME:CET
DTSTART:20211031T010000
END:STANDARD
BEGIN:DAYLIGHT
TZOFFSETFROM:+0100
TZOFFSETTO:+0200
TZNAME:CEST
DTSTART:20220327T010000
END:DAYLIGHT
BEGIN:STANDARD
TZOFFSETFROM:+0200
TZOFFSETTO:+0100
TZNAME:CET
DTSTART:20221030T010000
END:STANDARD
BEGIN:DAYLIGHT
TZOFFSETFROM:+0100
TZOFFSETTO:+0200
TZNAME:CEST
DTSTART:20230326T010000
END:DAYLIGHT
BEGIN:STANDARD
TZOFFSETFROM:+0200
TZOFFSETTO:+0100
TZNAME:CET
DTSTART:20231029T010000
END:STANDARD
BEGIN:DAYLIGHT
TZOFFSETFROM:+0100
TZOFFSETTO:+0200
TZNAME:CEST
DTSTART:20240331T010000
END:DAYLIGHT
BEGIN:STANDARD
TZOFFSETFROM:+0200
TZOFFSETTO:+0100
TZNAME:CET
DTSTART:20241027T010000
END:STANDARD
BEGIN:DAYLIGHT
TZOFFSETFROM:+0100
TZOFFSETTO:+0200
TZNAME:CEST
DTSTART:20250330T010000
END:DAYLIGHT
BEGIN:STANDARD
TZOFFSETFROM:+0200
TZOFFSETTO:+0100
TZNAME:CET
DTSTART:20251026T010000
END:STANDARD
END:VTIMEZONE
BEGIN:VEVENT
DTSTART;TZID=Europe/Amsterdam:20241221T193000
DTEND;TZID=Europe/Amsterdam:20241221T213000
DTSTAMP:20260421T162811
CREATED:20240612T110904Z
LAST-MODIFIED:20241216T124151Z
UID:1800-1734809400-1734816600@www.peter-overduin.nl
SUMMARY:FamilieKERSTconcert Inspire2liveChoir in Papendrecht
DESCRIPTION:Dit concert is totaal uitverkocht! Er zijn ook geen kaarten meer aan de kerk verkrijgbaar. \nOp zaterdag 21 december geeft het Inspire2liveChoir een FamilieKERSTconcert in de Bethlehemkerk te Papendrecht\nMet medewerking van:\n-Vocal Popgroep Re-flax o.l.v. Jeffrey van der Vegt\n-Jan Peter Teeuw\, orgel\n-Hans Veldhuizen\, vleugel\n-Annelies Schep\, sopraan\n-Maurice van Dijk\, trompet \nToegangsprijs € 15.- p.p. t/m 12 jaar gratis.\n-(Kaartverkoop: https://eventix.shop/xq8ex3e2)\nInlichtingen: 06-40329257
URL:https://www.peter-overduin.nl/evenement/familiekerstconcert-inspire2livechoir-in-papendrecht/
LOCATION:Bethlehemkerk Papendrecht\, van der Palmstraat 1\, Papendrecht\, 3351HA
CATEGORIES:Concerten Ispire2liveMusic
END:VEVENT
BEGIN:VEVENT
DTSTART;TZID=Europe/Amsterdam:20241207T193000
DTEND;TZID=Europe/Amsterdam:20241207T210000
DTSTAMP:20260421T162811
CREATED:20240612T110140Z
LAST-MODIFIED:20240903T083413Z
UID:1797-1733599800-1733605200@www.peter-overduin.nl
SUMMARY:FamilieKERSTconcert Inspire2liveChoir in Giessen-Oudekerk
DESCRIPTION:Op zaterdag 7 december geeft het Inspire2liveChoir een FamilieKERSTconcert in de Hervormde Kerk van Giessen-Oudekerk.\nMet medewerking van:\n-Jan Peter Teeuw\, orgel\n-Sierk Krol\, bariton\n-Severin van Dijk\, dwarsfluit\n-Diana Abspoel\, hobo \nToegangsprijs € 7\,50 p.p. t/m 12 jaar gratis.\n-(Kaartverkoop: https://eventix.shop/xq8ex3e2)\nInlichtingen: 06-40329257
URL:https://www.peter-overduin.nl/evenement/familiekerstconcert-inspire2livechoir-in-giessen-oudekerk/
LOCATION:Hervormde Kerk-Giessen-Oudekerk\, Oudkerkseweg 22\, Giessen-Oudekerk\, 3381 KR
CATEGORIES:Concerten Ispire2liveMusic
END:VEVENT
BEGIN:VEVENT
DTSTART;TZID=Europe/Amsterdam:20241123T193000
DTEND;TZID=Europe/Amsterdam:20241123T213000
DTSTAMP:20260421T162811
CREATED:20240612T103838Z
LAST-MODIFIED:20241007T091134Z
UID:1788-1732390200-1732397400@www.peter-overduin.nl
SUMMARY:Inspire2liveChoir zingt in Zwijndrecht
DESCRIPTION:Op zaterdag 23 november zingt het Inspire2liveChoir in de Bethelkerk te Zwijndrecht.\nMet medewerking van:\n-Urker Mannenkwartet o.l.v. Gerwin van der Plaats\n-Jan Peter Teeuw\, orgel\n-Gerwin van der Plaats\, vleugel \nToegangsprijs € 12\,50 p.p. t/m 12 jaar gratis.\n-(Kaartverkoop: https://eventix.shop/xq8ex3e2)\nInlichtingen: 06-40329257
URL:https://www.peter-overduin.nl/evenement/inspire2livechoir-zingt-in-zwijndrecht-2/
LOCATION:Bethelkerk Zwijndrecht\, Rotterdamseweg 73\, Zwijndrecht\, 3332AD
CATEGORIES:Concerten Ispire2liveMusic
END:VEVENT
BEGIN:VEVENT
DTSTART;TZID=Europe/Amsterdam:20241102T193000
DTEND;TZID=Europe/Amsterdam:20241102T213000
DTSTAMP:20260421T162811
CREATED:20240612T103505Z
LAST-MODIFIED:20240903T083647Z
UID:1785-1730575800-1730583000@www.peter-overduin.nl
SUMMARY:Inspire2liveChoir zingt in Poortugaal
DESCRIPTION:Op zaterdag 2 november zingt het Inspire2liveChoir in de Dorpskerk van Poortugaal.\nMet medewerking van:\n-Jan Peter Teeuw\, orgel\n-Hans Veldhuizen\, vleugel\n-Peter Koetsveld\, klarinet\n-Severin van Dijk\, dwarsfluit \nToegangsprijs € 12\,50 p.p. t/m 12 jaar gratis.\n-(Kaartverkoop: https://eventix.shop/xq8ex3e2)\nInlichtingen: 06-40329257
URL:https://www.peter-overduin.nl/evenement/inspire2livechoir-zingt-in-poortugaal/
LOCATION:Poortugaal-Dorpskerk\, Kerkstraat 90\, Poortugaal
CATEGORIES:Concerten Ispire2liveMusic
END:VEVENT
BEGIN:VEVENT
DTSTART;TZID=Europe/Amsterdam:20240525T213000
DTEND;TZID=Europe/Amsterdam:20240525T233000
DTSTAMP:20260421T162811
CREATED:20240104T105504Z
LAST-MODIFIED:20240820T223616Z
UID:1740-1716672600-1716679800@www.peter-overduin.nl
SUMMARY:Inspire2liveChoir zingt in Leerdam
DESCRIPTION:Op zaterdag 25 mei zingt het Inspire2liveChoir in de Grote Kerk van Leerdam.\nmet medewerking van:\n-Muziekvereniging Ad Astra o.l.v. Joop Nijholt\n-Jan Peter Teeuw\, orgel\n-Jan Vayne\, vleugel \nToegangsprijs: € 12\,50.- p.p. t/m 12 jaar gratis\nKaartverkoop:    https://eventix.shop/xq8ex3e2  \nen ’s avonds aan de kerk.\nInlichtingen: 06-40329257
URL:https://www.peter-overduin.nl/evenement/inspire2livechoir-zingt-in-leerdam-2/
LOCATION:Grote Kerk Leerdam\, Kerkstraat 32\, Leerdam\, 4141 AX
CATEGORIES:Concerten Ispire2liveMusic
END:VEVENT
BEGIN:VEVENT
DTSTART;TZID=Europe/Amsterdam:20240420T213000
DTEND;TZID=Europe/Amsterdam:20240420T233000
DTSTAMP:20260421T162811
CREATED:20240104T104858Z
LAST-MODIFIED:20240820T223616Z
UID:1737-1713648600-1713655800@www.peter-overduin.nl
SUMMARY:Inspire2liveChoir zingt in Heusden
DESCRIPTION:Op zaterdag 20 april zingt het Inspire2liveChoir o.l.v. Peter Overduin in de Catharijnekerk van Heusden.\nMet medewerking van:\n-Mannenkoor Onderling Genoegen en Brandweer Mannenkoor o.l.v. Johan den Hoedt\n-Jan Peter Teeuw\, orgel\n-Hans Veldhuizen vleugel \nToegangsprijs: € 12\,50.- p.p. t/m 12 jaar gratis\nKaartverkoop:    https://eventix.shop/xq8ex3e2  \nen ’s avonds aan de kerk.\nInlichtingen: 06-40329257
URL:https://www.peter-overduin.nl/evenement/inspire2livechoir-zingt-in-heusden/
LOCATION:Grote of Catharijnekerk\, Burchtstraat 2\, Heusden
CATEGORIES:Concerten Ispire2liveMusic
END:VEVENT
BEGIN:VEVENT
DTSTART;TZID=Europe/Amsterdam:20240324T180000
DTEND;TZID=Europe/Amsterdam:20240324T190000
DTSTAMP:20260421T162811
CREATED:20240104T101146Z
LAST-MODIFIED:20240820T223616Z
UID:1732-1711303200-1711306800@www.peter-overduin.nl
SUMMARY:Inspire2liveChoir zingt in Breepleinkek-Rotterdam
DESCRIPTION:Op zondag 24 maart zingt het Inspire2liveChoir o.l.v. Peter Overduin in de Breepleinkerk te Rotterdam.\nmet medewerking van:\n-Annelies Schep\, sopraan\n-Martin Mans\, orgel\n-Jantine Kalkman\, trompet \nToegang gratis.
URL:https://www.peter-overduin.nl/evenement/inspire2livechoir-zingt-in-breepleinkek-rotterdam/
LOCATION:Breepleinkerk\, van Malsenstraat 104\, Rotterdam\, 3074PZ
CATEGORIES:Concerten Ispire2liveMusic
END:VEVENT
BEGIN:VEVENT
DTSTART;TZID=Europe/Amsterdam:20240316T203000
DTEND;TZID=Europe/Amsterdam:20240316T223000
DTSTAMP:20260421T162811
CREATED:20240104T100918Z
LAST-MODIFIED:20240820T223616Z
UID:1730-1710621000-1710628200@www.peter-overduin.nl
SUMMARY:Inspire2liveChoir zingt in Ridderkerk
DESCRIPTION:Op zaterdag 16 maart zingt het Inspire2liveChoir o.l.v. Peter Overduin in de Levensbron te Ridderkerk.\nmet medewerking van:\n-Slikkerveers Chr. mannenkoor en Zederiks Chr. Mannenkoor o.l.v. Willem Nijhof\n-Johan den Hoedt\, orgel\n-Peter Jan Teeuw\, vleugel\n-Jaap Klootwijk\, slagwerk\n-Tania Ravelli\, sopraan \nToegangsprijs: € 12\,50.- p.p. t/m 12 jaar gratis\nKaartverkoop:    https://eventix.shop/xq8ex3e2  \nen ’s avonds aan de kerk.\nInlichtingen: 06-40329257
URL:https://www.peter-overduin.nl/evenement/inspire2livechoir-zingt-in-ridderkerk-3/
LOCATION:Ridderkerk\, Levensbron\, Jan Luykenstraat 10\, Ridderkerk\, 2985 AM
CATEGORIES:Concerten Ispire2liveMusic
END:VEVENT
BEGIN:VEVENT
DTSTART;TZID=Europe/Amsterdam:20120929T160000
DTEND;TZID=Europe/Amsterdam:20120929T180000
DTSTAMP:20260421T162811
CREATED:20120928T071432Z
LAST-MODIFIED:20121001T123814Z
UID:88-1348934400-1348941600@www.peter-overduin.nl
SUMMARY:Benefietconcert Borstkanker
DESCRIPTION:Benefietconcert voor borstkankeronderzoek door het Inspire2liveChoir o.l.v. Peter Overduin \nProgramma: \nAan dit grote Benefietconcert werken verder mee: \n\nApeldoorns Christelijk Mannenkoor o.l.v. Jacob Schenk\,\nHet Grote Kerk Koor o.l.v. Johan Bredewout\,\nMarco den Toom\, orgel\nAnnelies Schep\, sopraan\nJacob Schenk\, tenor\nArjan en Edith post\, trompet\n\nToegangsprijs € 10.-p.p. t/m 12 jaar € 5.-p.p. \nToegangskaarten vanaf 1 september bij de koorleden en het VVV Apeldoorn. \nInl.: 078-6818260
URL:https://www.peter-overduin.nl/evenement/benefietconcert-borstkanker/
CATEGORIES:Concerten Ispire2liveMusic
ATTACH;FMTTYPE=image/jpeg:https://www.peter-overduin.nl/wp-content/uploads/2012/09/603775_362593517155805_1791968195_n-e1349102264264.jpeg
ORGANIZER;CN="Peter Overduin":MAILTO:info@peter-overduin.nl
END:VEVENT
END:VCALENDAR